BEGIN:VCALENDAR
VERSION:2.0
PRODID:-//Universal Title - ECPv6.15.20//NONSGML v1.0//EN
CALSCALE:GREGORIAN
METHOD:PUBLISH
X-WR-CALNAME:Universal Title
X-ORIGINAL-URL:https://universaltitle.com
X-WR-CALDESC:Events for Universal Title
REFRESH-INTERVAL;VALUE=DURATION:PT1H
X-Robots-Tag:noindex
X-PUBLISHED-TTL:PT1H
BEGIN:VTIMEZONE
TZID:America/New_York
BEGIN:DAYLIGHT
TZOFFSETFROM:-0500
TZOFFSETTO:-0400
TZNAME:EDT
DTSTART:20230312T070000
END:DAYLIGHT
BEGIN:STANDARD
TZOFFSETFROM:-0400
TZOFFSETTO:-0500
TZNAME:EST
DTSTART:20231105T060000
END:STANDARD
BEGIN:DAYLIGHT
TZOFFSETFROM:-0500
TZOFFSETTO:-0400
TZNAME:EDT
DTSTART:20240310T070000
END:DAYLIGHT
BEGIN:STANDARD
TZOFFSETFROM:-0400
TZOFFSETTO:-0500
TZNAME:EST
DTSTART:20241103T060000
END:STANDARD
BEGIN:DAYLIGHT
TZOFFSETFROM:-0500
TZOFFSETTO:-0400
TZNAME:EDT
DTSTART:20250309T070000
END:DAYLIGHT
BEGIN:STANDARD
TZOFFSETFROM:-0400
TZOFFSETTO:-0500
TZNAME:EST
DTSTART:20251102T060000
END:STANDARD
END:VTIMEZONE
BEGIN:VEVENT
DTSTART;TZID=America/New_York:20240709T110000
DTEND;TZID=America/New_York:20240709T120000
DTSTAMP:20260424T183252
CREATED:20240629T082913Z
LAST-MODIFIED:20240708T114408Z
UID:2778-1720522800-1720526400@universaltitle.com
SUMMARY:Mock Settlement Class
DESCRIPTION:This class offers a valuable opportunity to enhance your understanding and confidence in real estate transactions.\n\n\nThrough a simulated settlement scenario\, you’ll walk through each stage of the process\, gaining practical insights into the roles of different stakeholders\, typical documents involved\, and key legal and financial considerations. \nWhether you’re newly licensed\, still feeling “new” or an experienced real estate agent looking to deepen your knowledge\, or simply curious about the closing process\, this class offers a valuable opportunity to enhance your understanding and confidence in real estate transactions. \nKey Benefits: \n\nGain a comprehensive understanding of the real estate closing process.\nLearn practical insights and tips for navigating settlements successfully.\nBuild confidence in participating in or facilitating real estate transactions.\nNetwork with industry professionals and fellow participants.\n\nJoin us for an interactive session that will empower you with the knowledge and skills to navigate real estate settlements with ease and confidence!
URL:https://universaltitle.com/event/mock-settlement-class-6/
LOCATION:Universal Title – Loudoun\, 44679 Endicott Drive\, #Suite 300\, Ashburn\, VA\, 20147\, United States
ATTACH;FMTTYPE=image/jpeg:https://universaltitle.com/wp-content/uploads/2024/06/238b1a60388301ce9ddb7aad8132584c.jpg
END:VEVENT
BEGIN:VEVENT
DTSTART;TZID=America/New_York:20240709T130000
DTEND;TZID=America/New_York:20240709T140000
DTSTAMP:20260424T183252
CREATED:20240629T082915Z
LAST-MODIFIED:20240708T114408Z
UID:2780-1720530000-1720533600@universaltitle.com
SUMMARY:Essential Guide to Estates\, Trusts\, Divorces and LLCs
DESCRIPTION:Join Joe Bruno and learn how to set yourself up for success when dealing with these difficult situations.
URL:https://universaltitle.com/event/essential-guide-to-estates-trusts-divorces-and-llcs/
ATTACH;FMTTYPE=image/jpeg:https://universaltitle.com/wp-content/uploads/2024/06/1ded24536d2a60d98e53987f603d18fd.jpg
END:VEVENT
BEGIN:VEVENT
DTSTART;TZID=America/New_York:20240709T150000
DTEND;TZID=America/New_York:20240709T160000
DTSTAMP:20260424T183252
CREATED:20240629T082918Z
LAST-MODIFIED:20240708T114408Z
UID:2782-1720537200-1720540800@universaltitle.com
SUMMARY:GCAAR vs. MR: Financing Contingency
DESCRIPTION:Join Erika Madden\, Esq.\, UT\, Howard County and Katie Griffin\, Esq.\, UT\, DC  as they delve into the exciting world of financing contingencies\n\n\nAnalyzing the differences between the MR Financing Addenda  and the GCAAR Financing Addenda.
URL:https://universaltitle.com/event/gcaar-vs-mr-financing-contingency/
ATTACH;FMTTYPE=image/jpeg:https://universaltitle.com/wp-content/uploads/2024/06/2f2a53e2804d873249608e940138a08a.jpg
END:VEVENT
BEGIN:VEVENT
DTSTART;TZID=America/New_York:20240711T100000
DTEND;TZID=America/New_York:20240711T110000
DTSTAMP:20260424T183252
CREATED:20240629T082920Z
LAST-MODIFIED:20240711T075900Z
UID:2784-1720692000-1720695600@universaltitle.com
SUMMARY:Closing Horror Stories & Prevention Tips
DESCRIPTION:This class will present some true examples of where something went horribly wrong in a closing & will provide tips on how you can prevent it
URL:https://universaltitle.com/event/closing-horror-stories-prevention-tips/
ATTACH;FMTTYPE=image/jpeg:https://universaltitle.com/wp-content/uploads/2024/06/09a9b2c99ac98bd6a5df8b344517a327.jpg
END:VEVENT
BEGIN:VEVENT
DTSTART;TZID=America/New_York:20240711T130000
DTEND;TZID=America/New_York:20240711T140000
DTSTAMP:20260424T183252
CREATED:20240629T082923Z
LAST-MODIFIED:20240711T075900Z
UID:2786-1720702800-1720706400@universaltitle.com
SUMMARY:Real Deal with Reels
DESCRIPTION:Join Avery Anderson\, client experience manager at Universal Title Central Maryland for a workshop on mastering social media for real estate.\n\n\nLearn how to enhance your online brand\, attract clients and stand out in a competitive market.  
URL:https://universaltitle.com/event/real-deal-with-reels/
ATTACH;FMTTYPE=image/jpeg:https://universaltitle.com/wp-content/uploads/2024/06/d8d61a1bd40698580b1fdaa80ae918c7.jpg
END:VEVENT
BEGIN:VEVENT
DTSTART;TZID=America/New_York:20240716T120000
DTEND;TZID=America/New_York:20240716T130000
DTSTAMP:20260424T183252
CREATED:20240629T082925Z
LAST-MODIFIED:20240716T130803Z
UID:2788-1721131200-1721134800@universaltitle.com
SUMMARY:Common Title Problems and Pitfalls
DESCRIPTION:Join Patrick Meighan\, Esq. (Maryland) as he covers a multitude of title defects that can affect closings and how they can be resolved or not
URL:https://universaltitle.com/event/common-title-problems-and-pitfalls/
ATTACH;FMTTYPE=image/jpeg:https://universaltitle.com/wp-content/uploads/2024/06/9ded06fbd0fa2e7b6ec8151457627f3d.jpg
END:VEVENT
BEGIN:VEVENT
DTSTART;TZID=America/New_York:20240717T100000
DTEND;TZID=America/New_York:20240717T120000
DTSTAMP:20260424T183252
CREATED:20240629T082928Z
LAST-MODIFIED:20240717T131359Z
UID:2791-1721210400-1721217600@universaltitle.com
SUMMARY:Unlock Your Lead Generation Potential
DESCRIPTION:Join Ken Grogan & Amy Grant for this exclusive training session on how to generate more buyer and seller opportunities.\n\n\nLearn how to navigate and maximize the features of our powerful Prism app\, master the farming tools to generate quality leads\, and strategize ways to keep your sales pipeline full and active! Please RSVP by July 15th to secure your spot!
URL:https://universaltitle.com/event/unlock-your-lead-generation-potential/
LOCATION:Universal Title – Fredericksburg\, 915 Maple Grove Drive\, ##205\, Fredericksburg\, VA\, 22407\, United States
ATTACH;FMTTYPE=image/jpeg:https://universaltitle.com/wp-content/uploads/2024/06/0e203a2205ceb763304e40369ced878e.jpg
END:VEVENT
BEGIN:VEVENT
DTSTART;TZID=America/New_York:20240717T123000
DTEND;TZID=America/New_York:20240717T140000
DTSTAMP:20260424T183252
CREATED:20240716T081403Z
LAST-MODIFIED:20240717T131359Z
UID:2869-1721219400-1721224800@universaltitle.com
SUMMARY:New Forms Review (MR\, GCAAR and NVAR)
DESCRIPTION:Diving into the new MR Realtor forms that go into effect on  August 14th\n\n\nFocused on the newest GCAAR forms (subject to the forms being released) and the new NVAR forms.
URL:https://universaltitle.com/event/new-forms-review-mr-gcaar-and-envar/
ATTACH;FMTTYPE=image/jpeg:https://universaltitle.com/wp-content/uploads/2024/07/07ad6ee1e3886e18904d4bc0b5f98f30.jpg
END:VEVENT
BEGIN:VEVENT
DTSTART;TZID=America/New_York:20240718T100000
DTEND;TZID=America/New_York:20240718T110000
DTSTAMP:20260424T183252
CREATED:20240629T082931Z
LAST-MODIFIED:20240717T131359Z
UID:2793-1721296800-1721300400@universaltitle.com
SUMMARY:Most Common Questions on the GCAAR Sales Contract
DESCRIPTION:Join Joe Bruno on his deep dive of the most commonly misunderstood sections of the GCAAR contract
URL:https://universaltitle.com/event/most-common-questions-on-the-gcaar-sales-contract/
ATTACH;FMTTYPE=image/jpeg:https://universaltitle.com/wp-content/uploads/2024/06/a637f0c097bd0c65cb3111a579bf66f5.jpg
END:VEVENT
BEGIN:VEVENT
DTSTART;TZID=America/New_York:20240718T140000
DTEND;TZID=America/New_York:20240718T150000
DTSTAMP:20260424T183252
CREATED:20240629T082933Z
LAST-MODIFIED:20240717T131359Z
UID:2795-1721311200-1721314800@universaltitle.com
SUMMARY:Understanding the ALTA
DESCRIPTION:Kaylesh Bolla\, Esq. will be discussing what agents should be aware of when reviewing the ALTA as well as some tips and tricks of the trade.
URL:https://universaltitle.com/event/understanding-the-alta-7/
ATTACH;FMTTYPE=image/jpeg:https://universaltitle.com/wp-content/uploads/2024/06/07c1e4d56c890419e0ec975c71c813c2.jpg
END:VEVENT
BEGIN:VEVENT
DTSTART;TZID=America/New_York:20240718T150000
DTEND;TZID=America/New_York:20240718T160000
DTSTAMP:20260424T183252
CREATED:20240701T162651Z
LAST-MODIFIED:20240717T131359Z
UID:2799-1721314800-1721318400@universaltitle.com
SUMMARY:Virginia Contract Changes
DESCRIPTION:Join Kelly Satterwhite for a comprehensive overview on understanding the 2024 NVAR contract changes.\n\n\nThis class is essential for staying current with legal requirements and ensuring compliance in your practice.
URL:https://universaltitle.com/event/virginia-contract-changes/
ATTACH;FMTTYPE=image/jpeg:https://universaltitle.com/wp-content/uploads/2024/07/b61e53d369b32700b178b7a5fc7d503f.jpg
END:VEVENT
BEGIN:VEVENT
DTSTART;TZID=America/New_York:20240723T140000
DTEND;TZID=America/New_York:20240723T150000
DTSTAMP:20260424T183252
CREATED:20240701T162655Z
LAST-MODIFIED:20240723T125858Z
UID:2801-1721743200-1721746800@universaltitle.com
SUMMARY:Maryland Tenant Right of First Refusal Law (Eff. Oct 1\, 2024)
DESCRIPTION:Join Amin Khakpouri\, Esq. (MD) as he dissects and explains the Maryland Tenant Right of Refusal Law that will be in effect October 1\, 2024.
URL:https://universaltitle.com/event/maryland-tenant-right-of-first-refusal-law-eff-oct-1-2024/
ATTACH;FMTTYPE=image/jpeg:https://universaltitle.com/wp-content/uploads/2024/07/4f6305422517b21b0d5fb33b8e2ec115.jpg
END:VEVENT
BEGIN:VEVENT
DTSTART;TZID=America/New_York:20240724T140000
DTEND;TZID=America/New_York:20240724T150000
DTSTAMP:20260424T183252
CREATED:20240701T162658Z
LAST-MODIFIED:20240723T125858Z
UID:2803-1721829600-1721833200@universaltitle.com
SUMMARY:PRISM: Create Buyer/Seller Net Sheets\, Farming\, etc.
DESCRIPTION:A workshop like class where Tim Swinburn will show you how to use our quoting app.\n\n\nLearning how to create buyer and seller net sheets\, net sheets for multiple offer scenarios\, farming\, print pro and so much more.
URL:https://universaltitle.com/event/prism-create-buyer-seller-net-sheets-farming-etc-5/
ATTACH;FMTTYPE=image/jpeg:https://universaltitle.com/wp-content/uploads/2024/07/0d75c26c16e8108ce4a224db3f513898.jpg
END:VEVENT
BEGIN:VEVENT
DTSTART;TZID=America/New_York:20240725T093000
DTEND;TZID=America/New_York:20240725T123000
DTSTAMP:20260424T183252
CREATED:20240701T162700Z
LAST-MODIFIED:20240723T125858Z
UID:2805-1721899800-1721910600@universaltitle.com
SUMMARY:MR Contract of Sale (3 hour CE)
DESCRIPTION:In person class and must register through HCAR : https://www.hcar.org/pages/classes-events/\n\n\nJoin Erika Madden\, Esq. (MD) for a 3 hour Continuing Education MR Contract of Sale class.  This is in person through the Howard County Association of Realtors.  You must register through HCAR (the class is free only for HCAR members): https://www.hcar.org/pages/classes-events/
URL:https://universaltitle.com/event/mr-contract-of-sale-3-hour-ce/
LOCATION:Howard County Association of Realtors\, 8600 Snowden River Parkway\, #STE 104\, Columbia\, MD\, 21045\, United States
ATTACH;FMTTYPE=image/jpeg:https://universaltitle.com/wp-content/uploads/2024/07/ccff82cb4776c8392de5479724f12615.jpg
END:VEVENT
BEGIN:VEVENT
DTSTART;TZID=America/New_York:20240729T150000
DTEND;TZID=America/New_York:20240729T160000
DTSTAMP:20260424T183252
CREATED:20240701T162704Z
LAST-MODIFIED:20240729T051407Z
UID:2807-1722265200-1722268800@universaltitle.com
SUMMARY:Websites You Should Know (MD)
DESCRIPTION:Join Erika Madden\, Esq. with Maryland websites you should know!\n\n\nErika Madden\, Esq. (Maryland) will show you how\, for Maryland properties:  to research deeds\, liens and mortgages\, how to pull tax bills\, see if a property has ground rent\, how to digest the SDAT printout\, pull plats\, conduct a judgment search and how to see if a business is in good standing.   
URL:https://universaltitle.com/event/websites-you-should-know-md-3/
ATTACH;FMTTYPE=image/jpeg:https://universaltitle.com/wp-content/uploads/2024/07/37d3c5beb1fc1f7ed664ff6c84f609ae.jpg
END:VEVENT
BEGIN:VEVENT
DTSTART;TZID=America/New_York:20240807T120000
DTEND;TZID=America/New_York:20240807T130000
DTSTAMP:20260424T183252
CREATED:20240802T174406Z
LAST-MODIFIED:20240806T175901Z
UID:2886-1723032000-1723035600@universaltitle.com
SUMMARY:Clearing the Fog: Navigating Common Real Estate Title Problems
DESCRIPTION:Join Patrick Meighan\, Esq. (MD) in understanding common real estate title issues.\n\n\nGain an understanding in how we  resolve common challenges like liens\, ownership disputes\, and other issues that can delay closings. Perfect for realtors looking to ensure seamless transactions.  
URL:https://universaltitle.com/event/clearing-the-fog-navigating-common-real-estate-title-problems/
ATTACH;FMTTYPE=image/jpeg:https://universaltitle.com/wp-content/uploads/2024/08/79b15eca3266d25bc2d4375e1cb01eb8.jpg
END:VEVENT
BEGIN:VEVENT
DTSTART;TZID=America/New_York:20240807T150000
DTEND;TZID=America/New_York:20240807T170000
DTSTAMP:20260424T183252
CREATED:20240731T171355Z
LAST-MODIFIED:20240806T175901Z
UID:2882-1723042800-1723050000@universaltitle.com
SUMMARY:Real Estate Reimagined
DESCRIPTION:Discover the future of real estate at our Mastermind Event- “Real Estate Reimagined” on August 7th\, 2024\, 3:00 – 5:00 PM!\n\n\nWelcome to Real Estate Reimagined!\n\nJoin us for an insightful Mastermind where we’ll discuss recent law changes\, new contracts\, and the NAR lawsuit. This event will be followed by a happy hour – we hope to see you there! \nTime: 3:00 PM – 5:00 PM \nLocation: 3060 Williams Dr suite 300 \nDate: Wed Aug 07 2024 \n \nDon’t miss this opportunity to network with industry professionals and gain valuable insights into the evolving world of real estate.
URL:https://universaltitle.com/event/real-estate-reimagined/
LOCATION:3060 Williams Dr suite 300\, 3060 Williams Drive\, #suite 300\, Fairfax\, VA\, 22031\, United States
ATTACH;FMTTYPE=image/jpeg:https://universaltitle.com/wp-content/uploads/2024/07/57e6486adfc60e1a9183042e053717fd.jpg
END:VEVENT
BEGIN:VEVENT
DTSTART;TZID=America/New_York:20240808T110000
DTEND;TZID=America/New_York:20240808T120000
DTSTAMP:20260424T183252
CREATED:20240802T174409Z
LAST-MODIFIED:20240806T175901Z
UID:2888-1723114800-1723118400@universaltitle.com
SUMMARY:MR Contract New Forms Review
DESCRIPTION:Join Erika Madden\, Esq (Maryland) as she discusses in detail the new MR contract forms going live on August 14.
URL:https://universaltitle.com/event/mr-contract-new-forms-review/
ATTACH;FMTTYPE=image/jpeg:https://universaltitle.com/wp-content/uploads/2024/08/f45500363a2a5b5ba13d85437afedcfd.jpg
END:VEVENT
BEGIN:VEVENT
DTSTART;TZID=America/New_York:20240812T130000
DTEND;TZID=America/New_York:20240812T140000
DTSTAMP:20260424T183252
CREATED:20240804T180001Z
LAST-MODIFIED:20240812T051458Z
UID:2902-1723467600-1723471200@universaltitle.com
SUMMARY:Understanding the ALTA
DESCRIPTION:Kaylesh Bolla\, Esq. will be discussing what agents should be aware of when reviewing the ALTA as well as some tips and tricks of the trade.
URL:https://universaltitle.com/event/understanding-the-alta-8/
ATTACH;FMTTYPE=image/jpeg:https://universaltitle.com/wp-content/uploads/2024/08/b94863e177134f1f3dfa8015c531bd4d.jpg
END:VEVENT
BEGIN:VEVENT
DTSTART;TZID=America/New_York:20240814T120000
DTEND;TZID=America/New_York:20240814T130000
DTSTAMP:20260424T183252
CREATED:20240802T174412Z
LAST-MODIFIED:20240814T131357Z
UID:2890-1723636800-1723640400@universaltitle.com
SUMMARY:Crafting your Social Media Presence
DESCRIPTION:Discover how to master social media with Avery Anderson.\n\n\nGain essential skills in content creation\, profile optimization\, and audience engagement. Perfect for influencers\, entrepreneurs\, and anyone looking to enhance their online presence. Join us and elevate your social media strategy today!
URL:https://universaltitle.com/event/crafting-your-social-media-presence/
ATTACH;FMTTYPE=image/jpeg:https://universaltitle.com/wp-content/uploads/2024/08/32f73fbc9ae8978e74b97922570ada32.jpg
END:VEVENT
BEGIN:VEVENT
DTSTART;TZID=America/New_York:20240815T140000
DTEND;TZID=America/New_York:20240815T150000
DTSTAMP:20260424T183252
CREATED:20240802T174414Z
LAST-MODIFIED:20240814T131357Z
UID:2892-1723730400-1723734000@universaltitle.com
SUMMARY:Optimizing Real Estate Closings
DESCRIPTION:Join Kelly Satterwhite\, Esq. for a detailed class on the Real Estate closing process.\n\n\nIn the complex world of real estate\, understanding the intricacies of coinciding settlements\, local recording requirements\, and disbursement protocols is crucial for ensuring smooth and efficient transactions.
URL:https://universaltitle.com/event/optimizing-real-estate-closings/
ATTACH;FMTTYPE=image/jpeg:https://universaltitle.com/wp-content/uploads/2024/08/740ec25f49cbe8f4e8a44cff1267bb8f.jpg
END:VEVENT
BEGIN:VEVENT
DTSTART;TZID=America/New_York:20240820T120000
DTEND;TZID=America/New_York:20240820T130000
DTSTAMP:20260424T183252
CREATED:20240802T174417Z
LAST-MODIFIED:20240820T181432Z
UID:2894-1724155200-1724158800@universaltitle.com
SUMMARY:Maryland Tenant Right of First Refusal Law (Eff. Oct 1\, 2024)
DESCRIPTION:Join Amin Khakpouri\, Esq. (MD) as he dissects and explains the Maryland Tenant Right of Refusal Law that will be in effect October 1\, 2024.
URL:https://universaltitle.com/event/maryland-tenant-right-of-first-refusal-law-eff-oct-1-2024-2/
ATTACH;FMTTYPE=image/jpeg:https://universaltitle.com/wp-content/uploads/2024/08/a62db9d9dcf5694194bd51c727bd391f.jpg
END:VEVENT
BEGIN:VEVENT
DTSTART;TZID=America/New_York:20240821T140000
DTEND;TZID=America/New_York:20240821T150000
DTSTAMP:20260424T183252
CREATED:20240802T174419Z
LAST-MODIFIED:20240820T181432Z
UID:2896-1724248800-1724252400@universaltitle.com
SUMMARY:Prism Farming\, Marketing & Title Quotes
DESCRIPTION:A workshop like class where Tim Swinburn will show you how to use our quoting app.\n\n\nLearn to create buyer and seller net sheets\, net sheets for multiple offer scenarios\, farming\, print pro and so much more. 
URL:https://universaltitle.com/event/prism-farming-marketing-title-quotes/
ATTACH;FMTTYPE=image/jpeg:https://universaltitle.com/wp-content/uploads/2024/08/031ad099dae5df3b30240334e584fe81.jpg
END:VEVENT
BEGIN:VEVENT
DTSTART;TZID=America/New_York:20240826T140000
DTEND;TZID=America/New_York:20240826T150000
DTSTAMP:20260424T183252
CREATED:20240802T174422Z
LAST-MODIFIED:20240826T061527Z
UID:2898-1724680800-1724684400@universaltitle.com
SUMMARY:Essential Websites for Realtors (MD)
DESCRIPTION:Join Erika Madden\, Esq. (MD)\, as she guides you through mastering the essentials of researching Maryland properties.\n\n\nErika Madden\, Esq. (Maryland) will show you how\, for Maryland properties:  to research deeds\, liens and mortgages\, how to pull tax bills\, see if a property has ground rent\, how to digest the SDAT printout\, pull plats\, conduct a judgment search and how to see if a business is in good standing.   
URL:https://universaltitle.com/event/essential-websites-for-realtors-md/
ATTACH;FMTTYPE=image/jpeg:https://universaltitle.com/wp-content/uploads/2024/08/088b8ca3ad8b9e53272f97d76bc8ff52.jpg
END:VEVENT
BEGIN:VEVENT
DTSTART;TZID=America/New_York:20240903T110000
DTEND;TZID=America/New_York:20240903T120000
DTSTAMP:20260424T183252
CREATED:20240829T104421Z
LAST-MODIFIED:20240903T104409Z
UID:2922-1725361200-1725364800@universaltitle.com
SUMMARY:NVAR vs GCAAR Forms Updates for the NAR Settlement
DESCRIPTION:Join Sarah Tozer\, Esq. and Joe Bruno\, Esq. and review the contract changes between NVAR and GCAAR as a result of the NAR Settlement.\n\n\nThis class will take into some of the feedback and issues agents have encountered in the two weeks since the new forms became active.
URL:https://universaltitle.com/event/nvar-vs-gcaar-forms-updates-for-the-nar-settlement/
ATTACH;FMTTYPE=image/jpeg:https://universaltitle.com/wp-content/uploads/2024/08/adf3130c72c06e693bcc137049b71e10.jpg
END:VEVENT
BEGIN:VEVENT
DTSTART;TZID=America/New_York:20240911T130000
DTEND;TZID=America/New_York:20240911T140000
DTSTAMP:20260424T183252
CREATED:20240829T104424Z
LAST-MODIFIED:20240911T053338Z
UID:2924-1726059600-1726063200@universaltitle.com
SUMMARY:FIRPTA
DESCRIPTION:Learn how to effectively manage FIRPTA-related transactions.\n\n\nUnderstanding of the regulations and implications associated with foreign investments in U.S. real estate with Kelly Satterwhite.
URL:https://universaltitle.com/event/firpta/
ATTACH;FMTTYPE=image/jpeg:https://universaltitle.com/wp-content/uploads/2024/08/917b1c5258b3b99fde728a14e3dff6e8.jpg
END:VEVENT
BEGIN:VEVENT
DTSTART;TZID=America/New_York:20240912T120000
DTEND;TZID=America/New_York:20240912T130000
DTSTAMP:20260424T183252
CREATED:20240829T104426Z
LAST-MODIFIED:20240912T053100Z
UID:2926-1726142400-1726146000@universaltitle.com
SUMMARY:Essential Guide to Estates\, Trusts\, Divorces and LLCs
DESCRIPTION:This class offers a comprehensive overview of everything an agent should known when dealing with Estates\, Trusts\, Divorces and LLC\n\n\n Ideal for Real Estate agents who are working insure a smooth transaction when working with these types of entity sellers in Maryland\, DC or Virginia. 
URL:https://universaltitle.com/event/essential-guide-to-estates-trusts-divorces-and-llcs-2/
ATTACH;FMTTYPE=image/jpeg:https://universaltitle.com/wp-content/uploads/2024/08/5b33922c5c1e19fe8044aa4b05ff7810.jpg
END:VEVENT
BEGIN:VEVENT
DTSTART;TZID=America/New_York:20240919T110000
DTEND;TZID=America/New_York:20240919T120000
DTSTAMP:20260424T183252
CREATED:20240830T104431Z
LAST-MODIFIED:20240919T081403Z
UID:2929-1726743600-1726747200@universaltitle.com
SUMMARY:Assumption Class
DESCRIPTION:Unlock the potential of mortgage assumptions with our comprehensive class designed for real estate professionals.\n\n\nPresented by Craig O’Boyle of Assumption Solutions  \nCraig is the owner of Assumption Solutions which helps agents complete assumption transactions in all 50 states.  He has also been a Colorado Springs Realtor since 1995.  He specialized in training real estate agents and their clients regarding the mortgage assumption process and how to maximize the opportunity they represent. \n \nAssumption Class Overview:  \nWhat is a mortgage assumption and who qualifies. \nWhy is a mortgage assumption valuable. \nWhat does the mortgage assumption process look like. \nHow to get more sellers\, more buyers\, and how to properly market a home with an assumable mortgage.
URL:https://universaltitle.com/event/assumption-class/
ATTACH;FMTTYPE=image/jpeg:https://universaltitle.com/wp-content/uploads/2024/08/0de03fa61793b6a4ea14789452041bf7.jpg
END:VEVENT
BEGIN:VEVENT
DTSTART;TZID=America/New_York:20240924T130000
DTEND;TZID=America/New_York:20240924T140000
DTSTAMP:20260424T183252
CREATED:20240905T045914Z
LAST-MODIFIED:20240924T084427Z
UID:2937-1727182800-1727186400@universaltitle.com
SUMMARY:PRISM: Comparing Multiple Offers
DESCRIPTION:Join Dennis Young to learn how to create and compare seller net sheets for multiple offer scenarios using PRISM.
URL:https://universaltitle.com/event/prism-comparing-multiple-offers/
ATTACH;FMTTYPE=image/jpeg:https://universaltitle.com/wp-content/uploads/2024/09/9285ab983993fdc59be0b0f54dd184b1.jpg
END:VEVENT
BEGIN:VEVENT
DTSTART;TZID=America/New_York:20241009T093000
DTEND;TZID=America/New_York:20241009T160000
DTSTAMP:20260424T183252
CREATED:20240921T082942Z
LAST-MODIFIED:20241009T124441Z
UID:2956-1728466200-1728489600@universaltitle.com
SUMMARY:Next Level Knowledge - CE DAY
DESCRIPTION:4 hours of CE with Lunch panel “Adapting to Succeed: Real Estate after the NAR Settlement” moderated by UT CEO David Mason.
URL:https://universaltitle.com/event/next-level-knowledge-ce-day/
LOCATION:2107 Wilson Blvd-First Floor\, 2107 Wilson Boulevard\, Arlington\, VA\, 22201\, United States
ATTACH;FMTTYPE=image/jpeg:https://universaltitle.com/wp-content/uploads/2024/09/a8e48e78244338fe42eb0302266a9bef.jpg
END:VEVENT
END:VCALENDAR